Workbook

Sheet ALUMNOS
A1: ESFEM · ALTA DE PARTICIPANTES | FORMACIÓN CONTINUA DE SEGUROS
A3: Completa los datos de la empresa y una fila por participante. Puedes incluir diferentes cursos en el mismo archivo.
A5: EMPRESA / ENTIDAD | H5: CUANDO ESTÉ COMPLETO
A6: CIF
A7: PERSONA DE CONTACTO | H7: Envía este Excel a esfem@esfem.net
A8: E-MAIL DE CONTACTO
G9: Selecciona la formación: el nivel y las horas se completan automáticamente.
A10: PARTICIPANTES
A11: Nº | B11: Nombre | C11: Apellidos | D11: DNI / NIE | E11: E-mail | F11: Teléfono | G11: Nivel | H11: Formación | I11: Horas | J11: Observaciones
A12: 1 | G12: =IFERROR(VLOOKUP(H12,LISTAS!$A$2:$C$8,2,FALSE),"") | I12: =IFERROR(VLOOKUP(H12,LISTAS!$A$2:$C$8,3,FALSE),"")
A13: 2 | G13: =IFERROR(VLOOKUP(H13,LISTAS!$A$2:$C$8,2,FALSE),"") | I13: =IFERROR(VLOOKUP(H13,LISTAS!$A$2:$C$8,3,FALSE),"")
A14: 3 | G14: =IFERROR(VLOOKUP(H14,LISTAS!$A$2:$C$8,2,FALSE),"") | I14: =IFERROR(VLOOKUP(H14,LISTAS!$A$2:$C$8,3,FALSE),"")
A15: 4 | G15: =IFERROR(VLOOKUP(H15,LISTAS!$A$2:$C$8,2,FALSE),"") | I15: =IFERROR(VLOOKUP(H15,LISTAS!$A$2:$C$8,3,FALSE),"")
A16: 5 | G16: =IFERROR(VLOOKUP(H16,LISTAS!$A$2:$C$8,2,FALSE),"") | I16: =IFERROR(VLOOKUP(H16,LISTAS!$A$2:$C$8,3,FALSE),"")
A17: 6 | G17: =IFERROR(VLOOKUP(H17,LISTAS!$A$2:$C$8,2,FALSE),"") | I17: =IFERROR(VLOOKUP(H17,LISTAS!$A$2:$C$8,3,FALSE),"")
A18: 7 | G18: =IFERROR(VLOOKUP(H18,LISTAS!$A$2:$C$8,2,FALSE),"") | I18: =IFERROR(VLOOKUP(H18,LISTAS!$A$2:$C$8,3,FALSE),"")
A19: 8 | G19: =IFERROR(VLOOKUP(H19,LISTAS!$A$2:$C$8,2,FALSE),"") | I19: =IFERROR(VLOOKUP(H19,LISTAS!$A$2:$C$8,3,FALSE),"")
A20: 9 | G20: =IFERROR(VLOOKUP(H20,LISTAS!$A$2:$C$8,2,FALSE),"") | I20: =IFERROR(VLOOKUP(H20,LISTAS!$A$2:$C$8,3,FALSE),"")
A21: 10 | G21: =IFERROR(VLOOKUP(H21,LISTAS!$A$2:$C$8,2,FALSE),"") | I21: =IFERROR(VLOOKUP(H21,LISTAS!$A$2:$C$8,3,FALSE),"")
A22: 11 | G22: =IFERROR(VLOOKUP(H22,LISTAS!$A$2:$C$8,2,FALSE),"") | I22: =IFERROR(VLOOKUP(H22,LISTAS!$A$2:$C$8,3,FALSE),"")
A23: 12 | G23: =IFERROR(VLOOKUP(H23,LISTAS!$A$2:$C$8,2,FALSE),"") | I23: =IFERROR(VLOOKUP(H23,LISTAS!$A$2:$C$8,3,FALSE),"")
... A51: 40 | G51: =IFERROR(VLOOKUP(H51,LISTAS!$A$2:$C$8,2,FALSE),"") | I51: =IFERROR(VLOOKUP(H51,LISTAS!$A$2:$C$8,3,FALSE),"")
A53: No es necesario separar los alumnos por cursos. Indica la formación correspondiente en cada fila y ESFEM realizará las asignaciones.
A56: Una vez procesado el archivo, ESFEM confirmará el alta y cada participante recibirá individualmente sus instrucciones de acceso.

Sheet INSTRUCCIONES
A1: PLANTILLA ESFEM · ALTA DE PARTICIPANTES EN FORMACIÓN CONTINUA DE SEGUROS
A4: Cómo utilizar esta plantilla
A6: 1 | B6: Completa los datos de la empresa en la hoja ALUMNOS.
A7: 2 | B7: Añade una fila por participante. Puedes incluir alumnos de diferentes cursos en el mismo Excel.
A8: 3 | B8: En la columna “Formación” selecciona el curso correspondiente desde el desplegable.
A9: 4 | B9: Revisa especialmente DNI/NIE y correo electrónico: se utilizarán para identificar al alumno y enviarle el acceso.
A10: 5 | B10: Guarda el archivo y envíalo por correo a esfem@esfem.net.
A11: 6 | B11: ESFEM realizará las altas, asignará la formación y enviará a cada participante sus instrucciones de acceso.
A14: IMPORTANTE · No es necesario crear usuarios ni separar los alumnos por cursos. Puedes indicarlo todo en una sola plantilla y ESFEM se encarga del resto.
A18: Envío de la plantilla: esfem@esfem.net

Sheet LISTAS
A1: FORMACIÓN | B1: NIVEL | C1: HORAS | E1: NIVELES
A2: IA y Dirección Estratégica de la Distribución de Seguros | B2: Nivel 1 | C2: 25 | E2: Nivel 1
A3: IA, Ciberseguridad e Innovación en la Distribución de Seguros | B3: Nivel 1 / 2 | C3: 25 | E3: Nivel 2
A4: IA Aplicada al Asesoramiento y Distribución de Seguros | B4: Nivel 2 | C4: 25 | E4: Nivel 3
A5: Venta Asesorada, IA y Experiencia del Cliente en Seguros | B5: Nivel 2 | C5: 25
A6: Actualización Profesional e IA Aplicada a la Distribución de Seguros | B6: Nivel 3 | C6: 15
A7: Atención al Cliente, Siniestros e IA en la Distribución Digital | B7: Nivel 3 | C7: 15
A8: Otra formación ESFEM / consultar | B8: Según formación
